BEGIN:VCALENDAR
VERSION:2.0
PRODID:-//wp-events-plugin.com//7.0.4//EN
BEGIN:VEVENT
UID:2@revivalcentre.ca
DTSTART:20250818T090000Z
DTEND:20250822T120000Z
DTSTAMP:20250327T125021Z
URL:https://revivalcentre.ca/events/vacation-bible-school-2025-jesus-the-f
 irst-action-hero/
SUMMARY:Vacation Bible School 2025: Jesus – The First Action Hero!
DESCRIPTION:Vacation Bible School 2025: Jesus – The First Action Hero!
 📅 August 18–22\, 2025🕘 9:00 AM – 12:00 PM daily📍 Revival Cent
 re Church – 858 Dundas St.\, London\, Ontario N5W 2Z7📞 Contact: (519)
  266-9050👦🏽👧🏼 For Children Ages 5–12\nGet ready for an actio
 n-packed week your kids will never forget!\nAt Revival Centre’s Vacation
  Bible School 2025\, we’re going on a heroic adventure with “Jesus –
  The First Action Hero!” From walking on water to healing the sick and s
 aving the world\, Jesus shows us what it means to be brave\, bold\, and fu
 ll of love.\nEach day from 9 AM to 12 PM\, kids will enjoy:✅ Engaging Bi
 ble lessons✅ High-energy worship✅ Interactive games✅ Creative crafts
 ✅ Yummy snacks✅ And fun surprises!\nThis is a FREE event designed to t
 each children that Jesus is the ultimate hero—and that He’s called the
 m to be heroes\, too!\n\n\n\n\n📝 How to Register:\nPlease complete the 
 short form below with the following details:\n\n\n 	\nName – Enter your 
 full name.\n\n 	\nEmail – Add a valid email address for confirmation and
  updates.\n\n 	\nSubject – Type “VBS Registration”.\n\n 	\nYour Thou
 ghts – Please include your child(ren)’s name(s)\, age(s)\, and any all
 ergies or important notes we should know.\n\n\n📩 Once you submit the fo
 rm\, someone from our team will contact you to confirm your spot and provi
 de any additional information you need.\n🎯 Spots are limited—register
  today and secure your child's place for the most exciting week of the sum
 mer!\n[wpforms id="12"]
ATTACH;FMTTYPE=image/jpeg:https://revivalcentre.ca/wp-content/uploads/2025
 /03/VBS-2025.png
END:VEVENT
END:VCALENDAR