BEGIN:VCALENDAR
VERSION:2.0
PRODID:-//wp-events-plugin.com//7.0.4//EN
BEGIN:VEVENT
UID:1@revivalcentre.ca
DTSTART;VALUE=DATE:20230605
DTEND;VALUE=DATE:20230606
DTSTAMP:20230602T053734Z
URL:https://revivalcentre.ca/events/sample/
SUMMARY:sample
DESCRIPTION:[wpforms id="12"]
ATTACH;FMTTYPE=image/jpeg:https://revivalcentre.ca/wp-content/uploads/2022
 /06/WhatsApp-Image-2022-06-18-at-12.43.35-AM.jpeg
LOCATION:madison square garden\, new york\, sample city\, United States
X-APPLE-STRUCTURED-LOCATION;VALUE=URI;X-ADDRESS=new york\, sample city\, Un
 ited States;X-APPLE-RADIUS=100;X-TITLE=madison square garden:geo:0,0
END:VEVENT
END:VCALENDAR